BEGIN:VCALENDAR
VERSION:2.0
PRODID:-//AuSM - ECPv6.15.20//NONSGML v1.0//EN
CALSCALE:GREGORIAN
METHOD:PUBLISH
X-WR-CALNAME:AuSM
X-ORIGINAL-URL:https://ausm.org
X-WR-CALDESC:Events for AuSM
REFRESH-INTERVAL;VALUE=DURATION:PT1H
X-Robots-Tag:noindex
X-PUBLISHED-TTL:PT1H
BEGIN:VTIMEZONE
TZID:America/Chicago
BEGIN:DAYLIGHT
TZOFFSETFROM:-0600
TZOFFSETTO:-0500
TZNAME:CDT
DTSTART:20230312T080000
END:DAYLIGHT
BEGIN:STANDARD
TZOFFSETFROM:-0500
TZOFFSETTO:-0600
TZNAME:CST
DTSTART:20231105T070000
END:STANDARD
BEGIN:DAYLIGHT
TZOFFSETFROM:-0600
TZOFFSETTO:-0500
TZNAME:CDT
DTSTART:20240310T080000
END:DAYLIGHT
BEGIN:STANDARD
TZOFFSETFROM:-0500
TZOFFSETTO:-0600
TZNAME:CST
DTSTART:20241103T070000
END:STANDARD
BEGIN:DAYLIGHT
TZOFFSETFROM:-0600
TZOFFSETTO:-0500
TZNAME:CDT
DTSTART:20250309T080000
END:DAYLIGHT
BEGIN:STANDARD
TZOFFSETFROM:-0500
TZOFFSETTO:-0600
TZNAME:CST
DTSTART:20251102T070000
END:STANDARD
END:VTIMEZONE
BEGIN:VEVENT
DTSTART;TZID=America/Chicago:20240606T090000
DTEND;TZID=America/Chicago:20240606T120000
DTSTAMP:20260422T061524
CREATED:20240408T163235Z
LAST-MODIFIED:20240408T163235Z
UID:10001900-1717664400-1717675200@ausm.org
SUMMARY:Plain Language and Easy Read: An Introduction to Cognitively Accessible Formats
DESCRIPTION:This presentation will cover the basics of cognitive accessibility and cognitively accessible formats when writing for autistic people and other people with IDD. We will talk about the difference between plain language and Easy Read\, strategies when writing in plain language or Easy Read\, and the basics of illustrating and formatting plain language and Easy Read documents. No prior experience in cognitively accessible formats is required; however\, please come prepared to try writing in these formats.
URL:https://ausm.org/event/plain-language-and-easy-read-an-introduction-to-cognitively-accessible-formats/
LOCATION:Virtual Event
CATEGORIES:AuSM Classes,AuSM Events,AuSM Skillshops,Featured
ATTACH;FMTTYPE=image/png:https://ausm.org/wp-content/uploads/2024/01/2-4.png
END:VEVENT
BEGIN:VEVENT
DTSTART;TZID=America/Chicago:20240618T180000
DTEND;TZID=America/Chicago:20240618T193000
DTSTAMP:20260422T061524
CREATED:20240408T163620Z
LAST-MODIFIED:20240408T163620Z
UID:10001901-1718733600-1718739000@ausm.org
SUMMARY:Helping Your Child with ASD Learn to Ride a Bike
DESCRIPTION:Challenges with body awareness\, balance and motor control\, and hand-eye coordination can make riding a bike difficult. Learn a number of tips for successful bike riding including purchasing equipment\, making bike adjustments\, breaking down riding into smaller steps\, clothing protection\, practice makes perfect pedaling\, staying positive and patient\, and working toward the sense of independence and accomplishment that your child will experience when learning to ride his or her own bike.
URL:https://ausm.org/event/helping-your-child-with-asd-learn-to-ride-a-bike/
LOCATION:Autism Society of Minnesota\, 2380 Wycliff St. Ste. 102\, Saint Paul\, MN\, 55114\, United States
CATEGORIES:AuSM Classes,AuSM Events,AuSM Skillshops,Featured
ATTACH;FMTTYPE=image/png:https://ausm.org/wp-content/uploads/2024/01/Skillshop-Images.png
END:VEVENT
END:VCALENDAR