BEGIN:VCALENDAR
VERSION:2.0
PRODID:-//AuSM - ECPv6.15.20//NONSGML v1.0//EN
CALSCALE:GREGORIAN
METHOD:PUBLISH
X-WR-CALNAME:AuSM
X-ORIGINAL-URL:https://ausm.org
X-WR-CALDESC:Events for AuSM
REFRESH-INTERVAL;VALUE=DURATION:PT1H
X-Robots-Tag:noindex
X-PUBLISHED-TTL:PT1H
BEGIN:VTIMEZONE
TZID:America/Chicago
BEGIN:DAYLIGHT
TZOFFSETFROM:-0600
TZOFFSETTO:-0500
TZNAME:CDT
DTSTART:20240310T080000
END:DAYLIGHT
BEGIN:STANDARD
TZOFFSETFROM:-0500
TZOFFSETTO:-0600
TZNAME:CST
DTSTART:20241103T070000
END:STANDARD
BEGIN:DAYLIGHT
TZOFFSETFROM:-0600
TZOFFSETTO:-0500
TZNAME:CDT
DTSTART:20250309T080000
END:DAYLIGHT
BEGIN:STANDARD
TZOFFSETFROM:-0500
TZOFFSETTO:-0600
TZNAME:CST
DTSTART:20251102T070000
END:STANDARD
BEGIN:DAYLIGHT
TZOFFSETFROM:-0600
TZOFFSETTO:-0500
TZNAME:CDT
DTSTART:20260308T080000
END:DAYLIGHT
BEGIN:STANDARD
TZOFFSETFROM:-0500
TZOFFSETTO:-0600
TZNAME:CST
DTSTART:20261101T070000
END:STANDARD
END:VTIMEZONE
BEGIN:VEVENT
DTSTART;TZID=America/Chicago:20250101T100000
DTEND;TZID=America/Chicago:20250101T160000
DTSTAMP:20260421T214707
CREATED:20241209T162639Z
LAST-MODIFIED:20241209T162639Z
UID:10002539-1735725600-1735747200@ausm.org
SUMMARY:Gammelgården Museum of Scandia Holiday Displays
DESCRIPTION:Wednesdays\, Thursdays\, and Sundays are quieter days at the museum\, with fewer guests and noise. The museum has sensory kits for youth and adults available for use while at the museum. In addition\, there are fidgets that can be checked out and used while at the museum. A social narrative is available on the museum’s website at https://gammelgardenmuseum.org/social-narrative-and-sensory-kits/ . Printed information is available about some of the exhibits and displays; and signs in English and Swedish are next to each of the historical buildings. Virtual tours are available for self-guided tours throughout the years at https://gammelgardenmuseum.org/virtual-tours/ .
URL:https://ausm.org/event/gammelgarden-museum-of-scandia-holiday-displays/2025-01-01/
LOCATION:Gammelgården Museum of Scandia\, 20880 Olinda Trail North\, Scandia\, MN\, 55073
CATEGORIES:Sensory Friendly,Uniting the Community
ORGANIZER;CN="Gammelg%C3%A5rden Museum of Scandia":MAILTO:media@gammelgardenmuseum.org
END:VEVENT
BEGIN:VEVENT
DTSTART;TZID=America/Chicago:20250103T190000
DTEND;TZID=America/Chicago:20250103T210000
DTSTAMP:20260421T214707
CREATED:20241202T152818Z
LAST-MODIFIED:20241202T152818Z
UID:10002527-1735930800-1735938000@ausm.org
SUMMARY:How the Grinch Stole Christmas Sensory Friendly Performance
DESCRIPTION:A miserly and miserable\, ever-so-cantankerous Grinch has observed the despicable Christmas joy of the Whos with disdain\, from a distance\, for decades. Enough! In this CTC holiday favorite\, filled with music and Seussian rhymes\, he plots the greatest heist imaginable—stealing the very thing they love the most! Until\, that is\, the smallest of the Whos\, tiny Cindy Lou\, extends a hand. Through the combination of kindness and community\, we witness not only a change in the course of Who-History\, but the size and capacity of the old green guy’s heart.
URL:https://ausm.org/event/how-the-grinch-stole-christmas-sensory-friendly-performance/
LOCATION:Children’s Theatre Company\, Minneapolis\, MN
CATEGORIES:Sensory Friendly,Uniting the Community
END:VEVENT
BEGIN:VEVENT
DTSTART;TZID=America/Chicago:20250108T183000
DTEND;TZID=America/Chicago:20250108T200000
DTSTAMP:20260421T214707
CREATED:20250108T194344Z
LAST-MODIFIED:20250108T194344Z
UID:10002568-1736361000-1736366400@ausm.org
SUMMARY:MNProv Mixer Virtual
DESCRIPTION:The MNprov Mixers are a safe place for neurodivergent adults (18+) to have fun\, meet new people\, increase confidence\, and decrease stress. No experience necessary. This event is FREE. Come every week\, or only once\, or somewhere in-between. \nImprov is inherently inclusive. All participants are needed for a scene to succeed\, and everyone’s suggestions are incorporated into the scene. The improv rule of “Yes\, and . . .” allows participants to feel safe and supported and more willing to take risks. As players say “YES” to each other and add their own ideas\, they build trust and create something brand new together. \nThis is a small group activity with fewer than 20 participants. Individuals are welcome to take breaks as needed. Participants are encouraged to let us know how we can best support them. Because this is on ZOOM\, participants from greater Minnesota have an accessible way to attend. \nA social narrative about the MNprov Mixers workshops and a registration link can be found on our website.
URL:https://ausm.org/event/mnprov-mixer-virtual/2025-01-08/
LOCATION:Virtual Event
CATEGORIES:Sensory Friendly,Uniting the Community
END:VEVENT
BEGIN:VEVENT
DTSTART;TZID=America/Chicago:20250109T183000
DTEND;TZID=America/Chicago:20250109T200000
DTSTAMP:20260421T214707
CREATED:20250108T194955Z
LAST-MODIFIED:20250108T195024Z
UID:10002696-1736447400-1736452800@ausm.org
SUMMARY:MNProv Mixer In-Person
DESCRIPTION:The MNprov Mixers are a safe place for neurodivergent adults (18+) to have fun\, meet new people\, increase confidence\, and decrease stress. No experience necessary. This event is FREE. Come every week\, or only once\, or somewhere in-between. \nImprov is inherently inclusive. All participants are needed for a scene to succeed\, and everyone’s suggestions are incorporated into the scene. The improv rule of “Yes\, and . . .” allows participants to feel safe and supported and more willing to take risks. As players say “YES” to each other and add their own ideas\, they build trust and create something brand new together. \nThis is a small group activity with fewer than 20 participants. Individuals are welcome to take breaks as needed. Participants are encouraged to let us know how we can best support them. Because this is on ZOOM\, participants from greater Minnesota have an accessible way to attend. \nA social narrative about the MNprov Mixers workshops and a registration link can be found on our website.
URL:https://ausm.org/event/mnprov-mixer-in-person/2025-01-09/
LOCATION:Youth Performance Company\, 641 Fairview Ave N Suite 191\, Saint Paul\, MN\, 55104\, United States
CATEGORIES:Sensory Friendly,Uniting the Community
END:VEVENT
BEGIN:VEVENT
DTSTART;TZID=America/Chicago:20250115T183000
DTEND;TZID=America/Chicago:20250115T200000
DTSTAMP:20260421T214707
CREATED:20250108T194344Z
LAST-MODIFIED:20250108T194344Z
UID:10002569-1736965800-1736971200@ausm.org
SUMMARY:MNProv Mixer Virtual
DESCRIPTION:The MNprov Mixers are a safe place for neurodivergent adults (18+) to have fun\, meet new people\, increase confidence\, and decrease stress. No experience necessary. This event is FREE. Come every week\, or only once\, or somewhere in-between. \nImprov is inherently inclusive. All participants are needed for a scene to succeed\, and everyone’s suggestions are incorporated into the scene. The improv rule of “Yes\, and . . .” allows participants to feel safe and supported and more willing to take risks. As players say “YES” to each other and add their own ideas\, they build trust and create something brand new together. \nThis is a small group activity with fewer than 20 participants. Individuals are welcome to take breaks as needed. Participants are encouraged to let us know how we can best support them. Because this is on ZOOM\, participants from greater Minnesota have an accessible way to attend. \nA social narrative about the MNprov Mixers workshops and a registration link can be found on our website.
URL:https://ausm.org/event/mnprov-mixer-virtual/2025-01-15/
LOCATION:Virtual Event
CATEGORIES:Sensory Friendly,Uniting the Community
END:VEVENT
BEGIN:VEVENT
DTSTART;TZID=America/Chicago:20250116T183000
DTEND;TZID=America/Chicago:20250116T200000
DTSTAMP:20260421T214707
CREATED:20250108T194955Z
LAST-MODIFIED:20250108T195024Z
UID:10002697-1737052200-1737057600@ausm.org
SUMMARY:MNProv Mixer In-Person
DESCRIPTION:The MNprov Mixers are a safe place for neurodivergent adults (18+) to have fun\, meet new people\, increase confidence\, and decrease stress. No experience necessary. This event is FREE. Come every week\, or only once\, or somewhere in-between. \nImprov is inherently inclusive. All participants are needed for a scene to succeed\, and everyone’s suggestions are incorporated into the scene. The improv rule of “Yes\, and . . .” allows participants to feel safe and supported and more willing to take risks. As players say “YES” to each other and add their own ideas\, they build trust and create something brand new together. \nThis is a small group activity with fewer than 20 participants. Individuals are welcome to take breaks as needed. Participants are encouraged to let us know how we can best support them. Because this is on ZOOM\, participants from greater Minnesota have an accessible way to attend. \nA social narrative about the MNprov Mixers workshops and a registration link can be found on our website.
URL:https://ausm.org/event/mnprov-mixer-in-person/2025-01-16/
LOCATION:Youth Performance Company\, 641 Fairview Ave N Suite 191\, Saint Paul\, MN\, 55104\, United States
CATEGORIES:Sensory Friendly,Uniting the Community
END:VEVENT
BEGIN:VEVENT
DTSTART;TZID=America/Chicago:20250118T080000
DTEND;TZID=America/Chicago:20250118T100000
DTSTAMP:20260421T214707
CREATED:20230925T143817Z
LAST-MODIFIED:20240806T142343Z
UID:10001834-1737187200-1737194400@ausm.org
SUMMARY:Sensory Friendly Saturday\, Bell Museum
DESCRIPTION:Sensory Friendly Visits\n\n\n\n\n\n\n\nThe quietest time to visit the museum is late afternoon\, when we have fewer visitors and our space is generally uncrowded. Be sure to check out the items you can borrow at the museum below! \nSensory friendly resources\nVisitors are welcome to check out additional resources like our quiet spaces. You can borrow a sensory pack with tools such as visual timers\, weighted lap pads\, and hearing protection if it helps make the visit more enjoyable\, and a social narrative is available for download to prepare for your visit. (Note\, this is currently not accurate with COVID-19 procedures. Check out this general social narrative from the Autism Society of Minnesota). Read more about the museum’s other accessibility resources here. \nSensory Friendly Saturday\nPrepare for your visit to Sensory Friendly Saturday with a short video – click here to watch. \n\n\n\n\n\nbellinfo@umn.edu \n612.626-9660
URL:https://ausm.org/event/sensory-friendly-saturday-bell-museum/2025-01-18/
LOCATION:Bell Museum\, St. Paul\, Minnesota
CATEGORIES:Sensory Friendly
END:VEVENT
BEGIN:VEVENT
DTSTART;TZID=America/Chicago:20250122T183000
DTEND;TZID=America/Chicago:20250122T200000
DTSTAMP:20260421T214707
CREATED:20250108T194344Z
LAST-MODIFIED:20250108T194344Z
UID:10002570-1737570600-1737576000@ausm.org
SUMMARY:MNProv Mixer Virtual
DESCRIPTION:The MNprov Mixers are a safe place for neurodivergent adults (18+) to have fun\, meet new people\, increase confidence\, and decrease stress. No experience necessary. This event is FREE. Come every week\, or only once\, or somewhere in-between. \nImprov is inherently inclusive. All participants are needed for a scene to succeed\, and everyone’s suggestions are incorporated into the scene. The improv rule of “Yes\, and . . .” allows participants to feel safe and supported and more willing to take risks. As players say “YES” to each other and add their own ideas\, they build trust and create something brand new together. \nThis is a small group activity with fewer than 20 participants. Individuals are welcome to take breaks as needed. Participants are encouraged to let us know how we can best support them. Because this is on ZOOM\, participants from greater Minnesota have an accessible way to attend. \nA social narrative about the MNprov Mixers workshops and a registration link can be found on our website.
URL:https://ausm.org/event/mnprov-mixer-virtual/2025-01-22/
LOCATION:Virtual Event
CATEGORIES:Sensory Friendly,Uniting the Community
END:VEVENT
BEGIN:VEVENT
DTSTART;TZID=America/Chicago:20250123T183000
DTEND;TZID=America/Chicago:20250123T200000
DTSTAMP:20260421T214707
CREATED:20250108T194955Z
LAST-MODIFIED:20250108T195024Z
UID:10002698-1737657000-1737662400@ausm.org
SUMMARY:MNProv Mixer In-Person
DESCRIPTION:The MNprov Mixers are a safe place for neurodivergent adults (18+) to have fun\, meet new people\, increase confidence\, and decrease stress. No experience necessary. This event is FREE. Come every week\, or only once\, or somewhere in-between. \nImprov is inherently inclusive. All participants are needed for a scene to succeed\, and everyone’s suggestions are incorporated into the scene. The improv rule of “Yes\, and . . .” allows participants to feel safe and supported and more willing to take risks. As players say “YES” to each other and add their own ideas\, they build trust and create something brand new together. \nThis is a small group activity with fewer than 20 participants. Individuals are welcome to take breaks as needed. Participants are encouraged to let us know how we can best support them. Because this is on ZOOM\, participants from greater Minnesota have an accessible way to attend. \nA social narrative about the MNprov Mixers workshops and a registration link can be found on our website.
URL:https://ausm.org/event/mnprov-mixer-in-person/2025-01-23/
LOCATION:Youth Performance Company\, 641 Fairview Ave N Suite 191\, Saint Paul\, MN\, 55104\, United States
CATEGORIES:Sensory Friendly,Uniting the Community
END:VEVENT
BEGIN:VEVENT
DTSTART;TZID=America/Chicago:20250129T183000
DTEND;TZID=America/Chicago:20250129T200000
DTSTAMP:20260421T214707
CREATED:20250108T194344Z
LAST-MODIFIED:20250108T194344Z
UID:10002571-1738175400-1738180800@ausm.org
SUMMARY:MNProv Mixer Virtual
DESCRIPTION:The MNprov Mixers are a safe place for neurodivergent adults (18+) to have fun\, meet new people\, increase confidence\, and decrease stress. No experience necessary. This event is FREE. Come every week\, or only once\, or somewhere in-between. \nImprov is inherently inclusive. All participants are needed for a scene to succeed\, and everyone’s suggestions are incorporated into the scene. The improv rule of “Yes\, and . . .” allows participants to feel safe and supported and more willing to take risks. As players say “YES” to each other and add their own ideas\, they build trust and create something brand new together. \nThis is a small group activity with fewer than 20 participants. Individuals are welcome to take breaks as needed. Participants are encouraged to let us know how we can best support them. Because this is on ZOOM\, participants from greater Minnesota have an accessible way to attend. \nA social narrative about the MNprov Mixers workshops and a registration link can be found on our website.
URL:https://ausm.org/event/mnprov-mixer-virtual/2025-01-29/
LOCATION:Virtual Event
CATEGORIES:Sensory Friendly,Uniting the Community
END:VEVENT
BEGIN:VEVENT
DTSTART;TZID=America/Chicago:20250130T183000
DTEND;TZID=America/Chicago:20250130T200000
DTSTAMP:20260421T214707
CREATED:20250108T194955Z
LAST-MODIFIED:20250108T195024Z
UID:10002699-1738261800-1738267200@ausm.org
SUMMARY:MNProv Mixer In-Person
DESCRIPTION:The MNprov Mixers are a safe place for neurodivergent adults (18+) to have fun\, meet new people\, increase confidence\, and decrease stress. No experience necessary. This event is FREE. Come every week\, or only once\, or somewhere in-between. \nImprov is inherently inclusive. All participants are needed for a scene to succeed\, and everyone’s suggestions are incorporated into the scene. The improv rule of “Yes\, and . . .” allows participants to feel safe and supported and more willing to take risks. As players say “YES” to each other and add their own ideas\, they build trust and create something brand new together. \nThis is a small group activity with fewer than 20 participants. Individuals are welcome to take breaks as needed. Participants are encouraged to let us know how we can best support them. Because this is on ZOOM\, participants from greater Minnesota have an accessible way to attend. \nA social narrative about the MNprov Mixers workshops and a registration link can be found on our website.
URL:https://ausm.org/event/mnprov-mixer-in-person/2025-01-30/
LOCATION:Youth Performance Company\, 641 Fairview Ave N Suite 191\, Saint Paul\, MN\, 55104\, United States
CATEGORIES:Sensory Friendly,Uniting the Community
END:VEVENT
END:VCALENDAR