BEGIN:VCALENDAR
VERSION:2.0
PRODID:-//AuSM - ECPv6.15.20//NONSGML v1.0//EN
CALSCALE:GREGORIAN
METHOD:PUBLISH
X-ORIGINAL-URL:https://ausm.org
X-WR-CALDESC:Events for AuSM
REFRESH-INTERVAL;VALUE=DURATION:PT1H
X-Robots-Tag:noindex
X-PUBLISHED-TTL:PT1H
BEGIN:VTIMEZONE
TZID:America/Chicago
BEGIN:DAYLIGHT
TZOFFSETFROM:-0600
TZOFFSETTO:-0500
TZNAME:CDT
DTSTART:20230312T080000
END:DAYLIGHT
BEGIN:STANDARD
TZOFFSETFROM:-0500
TZOFFSETTO:-0600
TZNAME:CST
DTSTART:20231105T070000
END:STANDARD
BEGIN:DAYLIGHT
TZOFFSETFROM:-0600
TZOFFSETTO:-0500
TZNAME:CDT
DTSTART:20240310T080000
END:DAYLIGHT
BEGIN:STANDARD
TZOFFSETFROM:-0500
TZOFFSETTO:-0600
TZNAME:CST
DTSTART:20241103T070000
END:STANDARD
BEGIN:DAYLIGHT
TZOFFSETFROM:-0600
TZOFFSETTO:-0500
TZNAME:CDT
DTSTART:20250309T080000
END:DAYLIGHT
BEGIN:STANDARD
TZOFFSETFROM:-0500
TZOFFSETTO:-0600
TZNAME:CST
DTSTART:20251102T070000
END:STANDARD
BEGIN:DAYLIGHT
TZOFFSETFROM:-0600
TZOFFSETTO:-0500
TZNAME:CDT
DTSTART:20260308T080000
END:DAYLIGHT
BEGIN:STANDARD
TZOFFSETFROM:-0500
TZOFFSETTO:-0600
TZNAME:CST
DTSTART:20261101T070000
END:STANDARD
END:VTIMEZONE
BEGIN:VEVENT
DTSTART;TZID=America/Chicago:20251031T170000
DTEND;TZID=America/Chicago:20251031T200000
DTSTAMP:20260425T103056
CREATED:20250925T151618Z
LAST-MODIFIED:20250925T151618Z
UID:10003289-1761930000-1761940800@ausm.org
SUMMARY:Neurodiversity Halloween Hangout
DESCRIPTION:Accommodations offered for sensory styles. \nPlease note Streetcar cannot operate in heavy rain or snow
URL:https://ausm.org/event/neurodiversity-halloween-hangout/
LOCATION:Minnesota Streetcar Museum\, 4200 Queen Ave. S.\, Minneapolis\, MN\, 55410\, United States
CATEGORIES:Uniting the Community
END:VEVENT
BEGIN:VEVENT
DTSTART;TZID=America/Chicago:20241129T110000
DTEND;TZID=America/Chicago:20241129T140000
DTSTAMP:20260425T103056
CREATED:20241126T162951Z
LAST-MODIFIED:20241126T162951Z
UID:10002525-1732878000-1732888800@ausm.org
SUMMARY:All Aboard For the Holidays: Neurodiversity Streetcar Ride
DESCRIPTION:Everyone welcome\, accommodations available. We’ll be handing out candy canes and Chanukah gelt and Santa is scheduled to appear! Our Santa is an African American Minneapolis elder who is not rotund\, but is very kind. Platform and Depot are wheelchair accessible but the streetcar has stairs. $3 per ride or $7 unlimited rides for the event. We do not operate in rain so check the website for cancellations.
URL:https://ausm.org/event/all-aboard-for-the-holidays-neurodiversity-streetcar-ride/
LOCATION:Como Harriet Streetcar Line\, 4200 Queen Avenue\, South\, Minneapolis\, MN\, 55410\, United States
CATEGORIES:Sensory Friendly,Uniting the Community
END:VEVENT
BEGIN:VEVENT
DTSTART;TZID=America/Chicago:20241031T160000
DTEND;TZID=America/Chicago:20241031T190000
DTSTAMP:20260425T103056
CREATED:20241009T175700Z
LAST-MODIFIED:20241009T175700Z
UID:10002454-1730390400-1730401200@ausm.org
SUMMARY:Halloween hang out!
DESCRIPTION:Come hang with the community. Enjoy a Halloween event in any way you want. Candy? Costumes? Enjoying the evening in the Streetcar? \nCandy. Rides. Costumes if you feel like it. Have some fun with the community. Please contact me for accommodations. Please note we do not run in the rain. Check the website for cancellation. Platform and Depot wheelchair accessible. Streetcar has stairs. \n2330 w 42nd st\nMPLS\, MN 55410 \n$3/ride\, $7 ride whole time \nTrolleyride.org \n952.925.3716 \nleahharp@gmail.com
URL:https://ausm.org/event/halloween-hang-out/
END:VEVENT
BEGIN:VEVENT
DTSTART;TZID=America/Chicago:20240913T170000
DTEND;TZID=America/Chicago:20240913T200000
DTSTAMP:20260425T103056
CREATED:20240904T155225Z
LAST-MODIFIED:20240904T155225Z
UID:10002438-1726246800-1726257600@ausm.org
SUMMARY:AS: Trolley Social
DESCRIPTION:Free Trolley Rides narrated in ASL! Carbarn tour at 7pm interpreted in ASL. All are welcome. Please note Streetcar has stairs and Carbarn is reachable from the Streetcar ride\, or by walking down stairs\, or by walking up the gravel and dirt path. This event is made possible by the Minnesota Streetcar Museum and People for Parks. \ninfo@trolleyride.org \n952.925.3716
URL:https://ausm.org/event/as-trolley-social/
LOCATION:Como-Harriet Trolley\, Lake Harriet\, Minneapolis
CATEGORIES:Featured
END:VEVENT
END:VCALENDAR