BEGIN:VCALENDAR
VERSION:2.0
PRODID:-//AuSM - ECPv6.15.20//NONSGML v1.0//EN
CALSCALE:GREGORIAN
METHOD:PUBLISH
X-WR-CALNAME:AuSM
X-ORIGINAL-URL:https://ausm.org
X-WR-CALDESC:Events for AuSM
REFRESH-INTERVAL;VALUE=DURATION:PT1H
X-Robots-Tag:noindex
X-PUBLISHED-TTL:PT1H
BEGIN:VTIMEZONE
TZID:America/Chicago
BEGIN:DAYLIGHT
TZOFFSETFROM:-0600
TZOFFSETTO:-0500
TZNAME:CDT
DTSTART:20210314T080000
END:DAYLIGHT
BEGIN:STANDARD
TZOFFSETFROM:-0500
TZOFFSETTO:-0600
TZNAME:CST
DTSTART:20211107T070000
END:STANDARD
BEGIN:DAYLIGHT
TZOFFSETFROM:-0600
TZOFFSETTO:-0500
TZNAME:CDT
DTSTART:20220313T080000
END:DAYLIGHT
BEGIN:STANDARD
TZOFFSETFROM:-0500
TZOFFSETTO:-0600
TZNAME:CST
DTSTART:20221106T070000
END:STANDARD
BEGIN:DAYLIGHT
TZOFFSETFROM:-0600
TZOFFSETTO:-0500
TZNAME:CDT
DTSTART:20230312T080000
END:DAYLIGHT
BEGIN:STANDARD
TZOFFSETFROM:-0500
TZOFFSETTO:-0600
TZNAME:CST
DTSTART:20231105T070000
END:STANDARD
BEGIN:DAYLIGHT
TZOFFSETFROM:-0600
TZOFFSETTO:-0500
TZNAME:CDT
DTSTART:20240310T080000
END:DAYLIGHT
BEGIN:STANDARD
TZOFFSETFROM:-0500
TZOFFSETTO:-0600
TZNAME:CST
DTSTART:20241103T070000
END:STANDARD
BEGIN:DAYLIGHT
TZOFFSETFROM:-0600
TZOFFSETTO:-0500
TZNAME:CDT
DTSTART:20250309T080000
END:DAYLIGHT
BEGIN:STANDARD
TZOFFSETFROM:-0500
TZOFFSETTO:-0600
TZNAME:CST
DTSTART:20251102T070000
END:STANDARD
END:VTIMEZONE
BEGIN:VEVENT
DTSTART;TZID=America/Chicago:20240217T130000
DTEND;TZID=America/Chicago:20240217T163000
DTSTAMP:20260420T132253
CREATED:20240110T193241Z
LAST-MODIFIED:20240124T221334Z
UID:10001817-1708174800-1708187400@ausm.org
SUMMARY:AuSM Improv Class w/CSz Twin Cities and Comedy Sportz
DESCRIPTION:Our popular collaborative class with CSz Twin Cities and Comedy Sportz returns to Center for Performing Arts on Saturdays\, Saturdays from Feb. 17-March 23. Have fun while learning how to respond to the unexpected\, engage in reciprocal interactions\, and support fellow participants in keeping a scene moving forward. \nAges 14-26 \nNo prior improv experience is necessary. Experienced improv participants may register for the Advanced class; Advanced participants must be pre-approved by the instructor.  \n\nSpring\nBeginner: 1-2:30 p.m.\nAdvanced: 3-4:30 p.m. \nSaturdays\, Feb. 17-March 23 \nLocation\nCenter for Performing Arts\n3754 Pleasant Ave. S.\nMinneapolis\, MN 55409 \nCost Per Session\nAuSM Member: $275\nNon-Member: $325
URL:https://ausm.org/event/ausm-improv-class-w-csz-twin-cities-and-comedy-sportz/
LOCATION:Center for Perfroming Arts\, 3754 Pleasant Ave\, Minneapolis\, MN\, 55409\, United States
CATEGORIES:AuSM Classes,AuSM Events,Featured,Social Skills Classes
ATTACH;FMTTYPE=image/png:https://ausm.org/wp-content/uploads/2023/01/csz.png
END:VEVENT
BEGIN:VEVENT
DTSTART;TZID=America/Chicago:20221105T123000
DTEND;TZID=America/Chicago:20221105T140000
DTSTAMP:20260420T132253
CREATED:20220825T181934Z
LAST-MODIFIED:20220826T150433Z
UID:10001399-1667651400-1667656800@ausm.org
SUMMARY:CSz Improv Skills - Advanced Class
DESCRIPTION:AuSM is pleased to continue its partnership with CSz Twin Cities to offer classes based on the principles of improvisational theater. Have fun while learning how to respond to the unexpected\, engage in reciprocal interactions\, and support fellow participants in keeping a scene moving forward. No prior improv experience is necessary. Experienced improv participants may register for the Advanced class; Advanced participants must be pre-approved by the instructor.  \nWhile this class meets weekly on Saturdays\, please note that there is no class on October 22.
URL:https://ausm.org/event/csz-improv-skills-advanced-class/2022-11-05/
LOCATION:Center for Perfroming Arts\, 3754 Pleasant Ave\, Minneapolis\, MN\, 55409\, United States
CATEGORIES:AuSM Events,Featured,Social Skills Classes
ATTACH;FMTTYPE=image/png:https://ausm.org/wp-content/uploads/2020/06/ComedySportzStage_2019.png
END:VEVENT
BEGIN:VEVENT
DTSTART;TZID=America/Chicago:20221029T123000
DTEND;TZID=America/Chicago:20221029T140000
DTSTAMP:20260420T132253
CREATED:20220825T181934Z
LAST-MODIFIED:20220826T150433Z
UID:10001398-1667046600-1667052000@ausm.org
SUMMARY:CSz Improv Skills - Advanced Class
DESCRIPTION:AuSM is pleased to continue its partnership with CSz Twin Cities to offer classes based on the principles of improvisational theater. Have fun while learning how to respond to the unexpected\, engage in reciprocal interactions\, and support fellow participants in keeping a scene moving forward. No prior improv experience is necessary. Experienced improv participants may register for the Advanced class; Advanced participants must be pre-approved by the instructor.  \nWhile this class meets weekly on Saturdays\, please note that there is no class on October 22.
URL:https://ausm.org/event/csz-improv-skills-advanced-class/2022-10-29/
LOCATION:Center for Perfroming Arts\, 3754 Pleasant Ave\, Minneapolis\, MN\, 55409\, United States
CATEGORIES:AuSM Events,Featured,Social Skills Classes
ATTACH;FMTTYPE=image/png:https://ausm.org/wp-content/uploads/2020/06/ComedySportzStage_2019.png
END:VEVENT
BEGIN:VEVENT
DTSTART;TZID=America/Chicago:20221015T123000
DTEND;TZID=America/Chicago:20221015T140000
DTSTAMP:20260420T132253
CREATED:20220825T181934Z
LAST-MODIFIED:20220826T150433Z
UID:10001397-1665837000-1665842400@ausm.org
SUMMARY:CSz Improv Skills - Advanced Class
DESCRIPTION:AuSM is pleased to continue its partnership with CSz Twin Cities to offer classes based on the principles of improvisational theater. Have fun while learning how to respond to the unexpected\, engage in reciprocal interactions\, and support fellow participants in keeping a scene moving forward. No prior improv experience is necessary. Experienced improv participants may register for the Advanced class; Advanced participants must be pre-approved by the instructor.  \nWhile this class meets weekly on Saturdays\, please note that there is no class on October 22.
URL:https://ausm.org/event/csz-improv-skills-advanced-class/2022-10-15/
LOCATION:Center for Perfroming Arts\, 3754 Pleasant Ave\, Minneapolis\, MN\, 55409\, United States
CATEGORIES:AuSM Events,Featured,Social Skills Classes
ATTACH;FMTTYPE=image/png:https://ausm.org/wp-content/uploads/2020/06/ComedySportzStage_2019.png
END:VEVENT
BEGIN:VEVENT
DTSTART;TZID=America/Chicago:20221008T123000
DTEND;TZID=America/Chicago:20221008T140000
DTSTAMP:20260420T132253
CREATED:20220825T181934Z
LAST-MODIFIED:20220826T150433Z
UID:10001396-1665232200-1665237600@ausm.org
SUMMARY:CSz Improv Skills - Advanced Class
DESCRIPTION:AuSM is pleased to continue its partnership with CSz Twin Cities to offer classes based on the principles of improvisational theater. Have fun while learning how to respond to the unexpected\, engage in reciprocal interactions\, and support fellow participants in keeping a scene moving forward. No prior improv experience is necessary. Experienced improv participants may register for the Advanced class; Advanced participants must be pre-approved by the instructor.  \nWhile this class meets weekly on Saturdays\, please note that there is no class on October 22.
URL:https://ausm.org/event/csz-improv-skills-advanced-class/2022-10-08/
LOCATION:Center for Perfroming Arts\, 3754 Pleasant Ave\, Minneapolis\, MN\, 55409\, United States
CATEGORIES:AuSM Events,Featured,Social Skills Classes
ATTACH;FMTTYPE=image/png:https://ausm.org/wp-content/uploads/2020/06/ComedySportzStage_2019.png
END:VEVENT
BEGIN:VEVENT
DTSTART;TZID=America/Chicago:20221001T123000
DTEND;TZID=America/Chicago:20221001T140000
DTSTAMP:20260420T132253
CREATED:20220825T181934Z
LAST-MODIFIED:20220826T150433Z
UID:10001395-1664627400-1664632800@ausm.org
SUMMARY:CSz Improv Skills - Advanced Class
DESCRIPTION:AuSM is pleased to continue its partnership with CSz Twin Cities to offer classes based on the principles of improvisational theater. Have fun while learning how to respond to the unexpected\, engage in reciprocal interactions\, and support fellow participants in keeping a scene moving forward. No prior improv experience is necessary. Experienced improv participants may register for the Advanced class; Advanced participants must be pre-approved by the instructor.  \nWhile this class meets weekly on Saturdays\, please note that there is no class on October 22.
URL:https://ausm.org/event/csz-improv-skills-advanced-class/2022-10-01/
LOCATION:Center for Perfroming Arts\, 3754 Pleasant Ave\, Minneapolis\, MN\, 55409\, United States
CATEGORIES:AuSM Events,Featured,Social Skills Classes
ATTACH;FMTTYPE=image/png:https://ausm.org/wp-content/uploads/2020/06/ComedySportzStage_2019.png
END:VEVENT
BEGIN:VEVENT
DTSTART;TZID=America/Chicago:20220924T123000
DTEND;TZID=America/Chicago:20220924T140000
DTSTAMP:20260420T132253
CREATED:20220825T181934Z
LAST-MODIFIED:20220826T150433Z
UID:10001394-1664022600-1664028000@ausm.org
SUMMARY:CSz Improv Skills - Advanced Class
DESCRIPTION:AuSM is pleased to continue its partnership with CSz Twin Cities to offer classes based on the principles of improvisational theater. Have fun while learning how to respond to the unexpected\, engage in reciprocal interactions\, and support fellow participants in keeping a scene moving forward. No prior improv experience is necessary. Experienced improv participants may register for the Advanced class; Advanced participants must be pre-approved by the instructor.  \nWhile this class meets weekly on Saturdays\, please note that there is no class on October 22.
URL:https://ausm.org/event/csz-improv-skills-advanced-class/2022-09-24/
LOCATION:Center for Perfroming Arts\, 3754 Pleasant Ave\, Minneapolis\, MN\, 55409\, United States
CATEGORIES:AuSM Events,Featured,Social Skills Classes
ATTACH;FMTTYPE=image/png:https://ausm.org/wp-content/uploads/2020/06/ComedySportzStage_2019.png
END:VEVENT
END:VCALENDAR