BEGIN:VCALENDAR
VERSION:2.0
PRODID:-//AuSM - ECPv6.15.20//NONSGML v1.0//EN
CALSCALE:GREGORIAN
METHOD:PUBLISH
X-ORIGINAL-URL:https://ausm.org
X-WR-CALDESC:Events for AuSM
REFRESH-INTERVAL;VALUE=DURATION:PT1H
X-Robots-Tag:noindex
X-PUBLISHED-TTL:PT1H
BEGIN:VTIMEZONE
TZID:America/Chicago
BEGIN:DAYLIGHT
TZOFFSETFROM:-0600
TZOFFSETTO:-0500
TZNAME:CDT
DTSTART:20230312T080000
END:DAYLIGHT
BEGIN:STANDARD
TZOFFSETFROM:-0500
TZOFFSETTO:-0600
TZNAME:CST
DTSTART:20231105T070000
END:STANDARD
BEGIN:DAYLIGHT
TZOFFSETFROM:-0600
TZOFFSETTO:-0500
TZNAME:CDT
DTSTART:20240310T080000
END:DAYLIGHT
BEGIN:STANDARD
TZOFFSETFROM:-0500
TZOFFSETTO:-0600
TZNAME:CST
DTSTART:20241103T070000
END:STANDARD
BEGIN:DAYLIGHT
TZOFFSETFROM:-0600
TZOFFSETTO:-0500
TZNAME:CDT
DTSTART:20250309T080000
END:DAYLIGHT
BEGIN:STANDARD
TZOFFSETFROM:-0500
TZOFFSETTO:-0600
TZNAME:CST
DTSTART:20251102T070000
END:STANDARD
END:VTIMEZONE
BEGIN:VEVENT
DTSTART;TZID=America/Chicago:20241012T140000
DTEND;TZID=America/Chicago:20241012T160000
DTSTAMP:20260420T143616
CREATED:20240916T162942Z
LAST-MODIFIED:20240916T162942Z
UID:10002443-1728741600-1728748800@ausm.org
SUMMARY:Relaxed Performance - Spongebob the Musical Youth Edition
DESCRIPTION:For every mainstage show in our season\, Children’s Performing Arts hosts a relaxed performance. This allows patrons with sensory\, social\, physical\, and cognitive needs to attend a production in a safe and welcoming environment. Modifications to this performance include lights remaining dim in the audience\, elimination of intense lighting and sound effects\, and audiences being free to move around the space and make any noises they need to make. Fidgets\, noise-canceling headphones\, and modified seating are also welcome into the space! A social narrative and character description guide will be sent to patrons the week of the show. \n\n\n\n$24 for Adults\, $16 for Students and Seniors (Pay What You Can Tickets are also available!)\n\n\n\nmaddier@childrensperformingartsmn.org \n(651) 348-8578 \n4941 Long Ave\nWhite Bear Lake\, MN 55110
URL:https://ausm.org/event/relaxed-performance-spongebob-the-musical-youth-edition/
LOCATION:Children’s Performance Arts\, 6101 Scandia Trail\, Forest Lake\, MN\, 55025\, United States
CATEGORIES:Sensory Friendly
ORGANIZER;CN="Children's Performance Arts":MAILTO:maddier@childrensperformingartsmn.org
END:VEVENT
BEGIN:VEVENT
DTSTART;TZID=America/Chicago:20240217T140000
DTEND;TZID=America/Chicago:20240217T160000
DTSTAMP:20260420T143616
CREATED:20240118T221430Z
LAST-MODIFIED:20240118T221430Z
UID:10001801-1708178400-1708185600@ausm.org
SUMMARY:Finding Nemo Jr. Relaxed Performance
DESCRIPTION:For every mainstage show in our season\, Children’s Performing Arts hosts a Relaxed Performance (formerly known as Sensory-Friendly). This allows patrons with sensory\, social\, physical\, and cognitive needs (including young children) to attend a production in a safe and welcoming environment. Modifications to this performance include lights remaining dim in the audience\, elimination of intense lighting and sound effects\, and audiences being free to move around the space and make any noises they need to make. A quiet space is also available outside of the theatre for patrons who need to take a break. Fidgets\, noise-canceling headphones\, and modified seating are also welcome into the space! \n$17 for Adults\, $10 for Students/Seniors\, Pay-What-You-Can Tickets are Available \n6101 Scandia Trail N\nForest Lake\, MN 55025 \nchildrensperformingartsmn.org \n515.494.7191\, maddier@childrensperformingartsmn.org
URL:https://ausm.org/event/finding-nemo-jr-relaxed-performance/
LOCATION:Children’s Performance Arts\, 6101 Scandia Trail\, Forest Lake\, MN\, 55025\, United States
END:VEVENT
END:VCALENDAR