BEGIN:VCALENDAR
VERSION:2.0
PRODID:-//AuSM - ECPv6.15.20//NONSGML v1.0//EN
CALSCALE:GREGORIAN
METHOD:PUBLISH
X-WR-CALNAME:AuSM
X-ORIGINAL-URL:https://ausm.org
X-WR-CALDESC:Events for AuSM
REFRESH-INTERVAL;VALUE=DURATION:PT1H
X-Robots-Tag:noindex
X-PUBLISHED-TTL:PT1H
BEGIN:VTIMEZONE
TZID:America/Chicago
BEGIN:DAYLIGHT
TZOFFSETFROM:-0600
TZOFFSETTO:-0500
TZNAME:CDT
DTSTART:20230312T080000
END:DAYLIGHT
BEGIN:STANDARD
TZOFFSETFROM:-0500
TZOFFSETTO:-0600
TZNAME:CST
DTSTART:20231105T070000
END:STANDARD
BEGIN:DAYLIGHT
TZOFFSETFROM:-0600
TZOFFSETTO:-0500
TZNAME:CDT
DTSTART:20240310T080000
END:DAYLIGHT
BEGIN:STANDARD
TZOFFSETFROM:-0500
TZOFFSETTO:-0600
TZNAME:CST
DTSTART:20241103T070000
END:STANDARD
BEGIN:DAYLIGHT
TZOFFSETFROM:-0600
TZOFFSETTO:-0500
TZNAME:CDT
DTSTART:20250309T080000
END:DAYLIGHT
BEGIN:STANDARD
TZOFFSETFROM:-0500
TZOFFSETTO:-0600
TZNAME:CST
DTSTART:20251102T070000
END:STANDARD
END:VTIMEZONE
BEGIN:VEVENT
DTSTART;TZID=America/Chicago:20240908T083000
DTEND;TZID=America/Chicago:20240908T123000
DTSTAMP:20260423T073738
CREATED:20240712T183159Z
LAST-MODIFIED:20240712T183159Z
UID:10002330-1725784200-1725798600@ausm.org
SUMMARY:Move to Your Own Groove All Abilities Run\, Walk & Roll
DESCRIPTION:Move to Your Own Groove has three different distances including 50 meters\, 1k & 5k. This event is open to all and you don’t have to be a current patient to participate. All proceeds will go to Family Achievement Foundation\, a non-profit for caregivers on a challenging journey. If you are unable to attend the event but would still like to donate\, click here.\nWalkers\, wheelchairs and medically approved adaptive bikes are all allowed on the course. This is a rain or shine event and will only be cancelled if lightning is in the vicinity.\nFollow Family Achievement Center on Facebook for event details & updates.This is a fun event for all and is not chip timed. All abilities are encouraged and welcomed\, from wheelchairs to elite runners! This event is family friendly and is open to everyone! You do not need to be a FAC patient to participate! All are welcome! \nLearn more about Family Achievement Center at www.familyachievement.com and follow us on Facebook here. \nStay tuned for more details! \n*All proceeds will go Family Achievement Foundation. Follow Family Achievement Foundation on Facebook here. * \n*If you are interested or know a business that would be interested in sponsoring this event\, please contact kgavin@familyachievement.com* \nWe welcome anyone interested in participating to join the Move to Your Own Groove All Abilities Run\, Walk and Roll. If paying the registration fee is burdensome to your family budget at this time\, simply let your therapist know or email kgavin@familyachievement.com to sign up to attend. We value our families and want everyone to be included. \n6517389888\, info@familyachieve.org
URL:https://ausm.org/event/move-to-your-own-groove-all-abilities-run-walk-roll/
LOCATION:Colby Lake Park\, 9715 Valley Creek Road\, Woodbury\, MN\, 55125
CATEGORIES:Exercise
ORGANIZER;CN="Family Achievement Foundation":MAILTO:info@familyachieve.org
END:VEVENT
END:VCALENDAR