BEGIN:VCALENDAR
VERSION:2.0
PRODID:-//AuSM - ECPv6.15.20//NONSGML v1.0//EN
CALSCALE:GREGORIAN
METHOD:PUBLISH
X-WR-CALNAME:AuSM
X-ORIGINAL-URL:https://ausm.org
X-WR-CALDESC:Events for AuSM
REFRESH-INTERVAL;VALUE=DURATION:PT1H
X-Robots-Tag:noindex
X-PUBLISHED-TTL:PT1H
BEGIN:VTIMEZONE
TZID:America/Chicago
BEGIN:DAYLIGHT
TZOFFSETFROM:-0600
TZOFFSETTO:-0500
TZNAME:CDT
DTSTART:20230312T080000
END:DAYLIGHT
BEGIN:STANDARD
TZOFFSETFROM:-0500
TZOFFSETTO:-0600
TZNAME:CST
DTSTART:20231105T070000
END:STANDARD
BEGIN:DAYLIGHT
TZOFFSETFROM:-0600
TZOFFSETTO:-0500
TZNAME:CDT
DTSTART:20240310T080000
END:DAYLIGHT
BEGIN:STANDARD
TZOFFSETFROM:-0500
TZOFFSETTO:-0600
TZNAME:CST
DTSTART:20241103T070000
END:STANDARD
BEGIN:DAYLIGHT
TZOFFSETFROM:-0600
TZOFFSETTO:-0500
TZNAME:CDT
DTSTART:20250309T080000
END:DAYLIGHT
BEGIN:STANDARD
TZOFFSETFROM:-0500
TZOFFSETTO:-0600
TZNAME:CST
DTSTART:20251102T070000
END:STANDARD
END:VTIMEZONE
BEGIN:VEVENT
DTSTART;TZID=America/Chicago:20240602T100000
DTEND;TZID=America/Chicago:20240602T120000
DTSTAMP:20260421T002756
CREATED:20240522T142649Z
LAST-MODIFIED:20240522T142649Z
UID:10002191-1717322400-1717329600@ausm.org
SUMMARY:Autism Support Playdate
DESCRIPTION:Join us for a monthly playdate with your kiddos! The June playdate will be held at the fully fenced-in playgrounds at Crystal Lake Education Center/Small Wonders Preschool in Lakeville. Future locations will vary depending on the time of year and weather\, but we look forward to having you join us. Free. \nAll events will be in a fully enclosed area for safety. All ages are welcome! \n(857)753-0523\, anna@thelancastercollective.com
URL:https://ausm.org/event/autism-support-playdate/
LOCATION:Crystal Lake Education Center\, 16250 Ipava Ave\, Lakeville\, MN\, 55044
END:VEVENT
END:VCALENDAR