BEGIN:VCALENDAR
VERSION:2.0
PRODID:-//AuSM - ECPv6.15.20//NONSGML v1.0//EN
CALSCALE:GREGORIAN
METHOD:PUBLISH
X-WR-CALNAME:AuSM
X-ORIGINAL-URL:https://ausm.org
X-WR-CALDESC:Events for AuSM
REFRESH-INTERVAL;VALUE=DURATION:PT1H
X-Robots-Tag:noindex
X-PUBLISHED-TTL:PT1H
BEGIN:VTIMEZONE
TZID:America/Chicago
BEGIN:DAYLIGHT
TZOFFSETFROM:-0600
TZOFFSETTO:-0500
TZNAME:CDT
DTSTART:20230312T080000
END:DAYLIGHT
BEGIN:STANDARD
TZOFFSETFROM:-0500
TZOFFSETTO:-0600
TZNAME:CST
DTSTART:20231105T070000
END:STANDARD
BEGIN:DAYLIGHT
TZOFFSETFROM:-0600
TZOFFSETTO:-0500
TZNAME:CDT
DTSTART:20240310T080000
END:DAYLIGHT
BEGIN:STANDARD
TZOFFSETFROM:-0500
TZOFFSETTO:-0600
TZNAME:CST
DTSTART:20241103T070000
END:STANDARD
BEGIN:DAYLIGHT
TZOFFSETFROM:-0600
TZOFFSETTO:-0500
TZNAME:CDT
DTSTART:20250309T080000
END:DAYLIGHT
BEGIN:STANDARD
TZOFFSETFROM:-0500
TZOFFSETTO:-0600
TZNAME:CST
DTSTART:20251102T070000
END:STANDARD
END:VTIMEZONE
BEGIN:VEVENT
DTSTART;TZID=America/Chicago:20240522T183000
DTEND;TZID=America/Chicago:20240522T200000
DTSTAMP:20260420T004116
CREATED:20240212T152602Z
LAST-MODIFIED:20240212T152602Z
UID:10001884-1716402600-1716408000@ausm.org
SUMMARY:MNprov Mixer – 90 minutes of improv games\, fun\, and new friends for neurodivergent adults 18+
DESCRIPTION:The MNprov MIXERS are a safe place for neurodivergent adults to have fun\, meet new people\, increase confidence and decrease stress. No experience is necessary. This event is free. \nImprov is inherently inclusive. All members are necessary for the success of the scene\, and everyone’s offers are incorporated into the scene. The improv rule of “Yes\, and…” allows participants to feel safe & supported and more willing to take risks. As players say “YES” to each other and add their ideas\, they will build trust and create something brand new together. \nThere will be a maximum number of 12 participants. We have a sensory items (created by AUSM) that are available at our workshops. Individuals\nare welcome to take breaks as needed. Lighting can be adjusted to meet needs. Participants are encouraged to let us know how we can best support them. \nA social narrative about the MNprov Mixers workshops and a registration link can be found on our website: https://mnprov.org/mnprov-mixers \ninfo@mnprov.org \n952.649.9699 \n\n\n\nHighland Park Community Center – Village View Room\, 1978 Ford Pkwy
URL:https://ausm.org/event/mnprov-mixer-90-minutes-of-improv-games-fun-and-new-friends-for-neurodivergent-adults-18-2/2024-05-22/
LOCATION:Highland Park Community Center\, 1978 Ford Pkwy\, St Paul\, MN\, 55116
CATEGORIES:Uniting the Community
END:VEVENT
BEGIN:VEVENT
DTSTART;TZID=America/Chicago:20240515T183000
DTEND;TZID=America/Chicago:20240515T200000
DTSTAMP:20260420T004116
CREATED:20240212T152602Z
LAST-MODIFIED:20240212T152602Z
UID:10001883-1715797800-1715803200@ausm.org
SUMMARY:MNprov Mixer – 90 minutes of improv games\, fun\, and new friends for neurodivergent adults 18+
DESCRIPTION:The MNprov MIXERS are a safe place for neurodivergent adults to have fun\, meet new people\, increase confidence and decrease stress. No experience is necessary. This event is free. \nImprov is inherently inclusive. All members are necessary for the success of the scene\, and everyone’s offers are incorporated into the scene. The improv rule of “Yes\, and…” allows participants to feel safe & supported and more willing to take risks. As players say “YES” to each other and add their ideas\, they will build trust and create something brand new together. \nThere will be a maximum number of 12 participants. We have a sensory items (created by AUSM) that are available at our workshops. Individuals\nare welcome to take breaks as needed. Lighting can be adjusted to meet needs. Participants are encouraged to let us know how we can best support them. \nA social narrative about the MNprov Mixers workshops and a registration link can be found on our website: https://mnprov.org/mnprov-mixers \ninfo@mnprov.org \n952.649.9699 \n\n\n\nHighland Park Community Center – Village View Room\, 1978 Ford Pkwy
URL:https://ausm.org/event/mnprov-mixer-90-minutes-of-improv-games-fun-and-new-friends-for-neurodivergent-adults-18-2/2024-05-15/
LOCATION:Highland Park Community Center\, 1978 Ford Pkwy\, St Paul\, MN\, 55116
CATEGORIES:Uniting the Community
END:VEVENT
BEGIN:VEVENT
DTSTART;TZID=America/Chicago:20240508T183000
DTEND;TZID=America/Chicago:20240508T200000
DTSTAMP:20260420T004116
CREATED:20240212T152602Z
LAST-MODIFIED:20240212T152602Z
UID:10001882-1715193000-1715198400@ausm.org
SUMMARY:MNprov Mixer – 90 minutes of improv games\, fun\, and new friends for neurodivergent adults 18+
DESCRIPTION:The MNprov MIXERS are a safe place for neurodivergent adults to have fun\, meet new people\, increase confidence and decrease stress. No experience is necessary. This event is free. \nImprov is inherently inclusive. All members are necessary for the success of the scene\, and everyone’s offers are incorporated into the scene. The improv rule of “Yes\, and…” allows participants to feel safe & supported and more willing to take risks. As players say “YES” to each other and add their ideas\, they will build trust and create something brand new together. \nThere will be a maximum number of 12 participants. We have a sensory items (created by AUSM) that are available at our workshops. Individuals\nare welcome to take breaks as needed. Lighting can be adjusted to meet needs. Participants are encouraged to let us know how we can best support them. \nA social narrative about the MNprov Mixers workshops and a registration link can be found on our website: https://mnprov.org/mnprov-mixers \ninfo@mnprov.org \n952.649.9699 \n\n\n\nHighland Park Community Center – Village View Room\, 1978 Ford Pkwy
URL:https://ausm.org/event/mnprov-mixer-90-minutes-of-improv-games-fun-and-new-friends-for-neurodivergent-adults-18-2/2024-05-08/
LOCATION:Highland Park Community Center\, 1978 Ford Pkwy\, St Paul\, MN\, 55116
CATEGORIES:Uniting the Community
END:VEVENT
BEGIN:VEVENT
DTSTART;TZID=America/Chicago:20240501T183000
DTEND;TZID=America/Chicago:20240501T200000
DTSTAMP:20260420T004116
CREATED:20240212T152602Z
LAST-MODIFIED:20240212T152602Z
UID:10001881-1714588200-1714593600@ausm.org
SUMMARY:MNprov Mixer – 90 minutes of improv games\, fun\, and new friends for neurodivergent adults 18+
DESCRIPTION:The MNprov MIXERS are a safe place for neurodivergent adults to have fun\, meet new people\, increase confidence and decrease stress. No experience is necessary. This event is free. \nImprov is inherently inclusive. All members are necessary for the success of the scene\, and everyone’s offers are incorporated into the scene. The improv rule of “Yes\, and…” allows participants to feel safe & supported and more willing to take risks. As players say “YES” to each other and add their ideas\, they will build trust and create something brand new together. \nThere will be a maximum number of 12 participants. We have a sensory items (created by AUSM) that are available at our workshops. Individuals\nare welcome to take breaks as needed. Lighting can be adjusted to meet needs. Participants are encouraged to let us know how we can best support them. \nA social narrative about the MNprov Mixers workshops and a registration link can be found on our website: https://mnprov.org/mnprov-mixers \ninfo@mnprov.org \n952.649.9699 \n\n\n\nHighland Park Community Center – Village View Room\, 1978 Ford Pkwy
URL:https://ausm.org/event/mnprov-mixer-90-minutes-of-improv-games-fun-and-new-friends-for-neurodivergent-adults-18-2/2024-05-01/
LOCATION:Highland Park Community Center\, 1978 Ford Pkwy\, St Paul\, MN\, 55116
CATEGORIES:Uniting the Community
END:VEVENT
BEGIN:VEVENT
DTSTART;TZID=America/Chicago:20240424T183000
DTEND;TZID=America/Chicago:20240424T200000
DTSTAMP:20260420T004116
CREATED:20240212T152602Z
LAST-MODIFIED:20240212T152602Z
UID:10001880-1713983400-1713988800@ausm.org
SUMMARY:MNprov Mixer – 90 minutes of improv games\, fun\, and new friends for neurodivergent adults 18+
DESCRIPTION:The MNprov MIXERS are a safe place for neurodivergent adults to have fun\, meet new people\, increase confidence and decrease stress. No experience is necessary. This event is free. \nImprov is inherently inclusive. All members are necessary for the success of the scene\, and everyone’s offers are incorporated into the scene. The improv rule of “Yes\, and…” allows participants to feel safe & supported and more willing to take risks. As players say “YES” to each other and add their ideas\, they will build trust and create something brand new together. \nThere will be a maximum number of 12 participants. We have a sensory items (created by AUSM) that are available at our workshops. Individuals\nare welcome to take breaks as needed. Lighting can be adjusted to meet needs. Participants are encouraged to let us know how we can best support them. \nA social narrative about the MNprov Mixers workshops and a registration link can be found on our website: https://mnprov.org/mnprov-mixers \ninfo@mnprov.org \n952.649.9699 \n\n\n\nHighland Park Community Center – Village View Room\, 1978 Ford Pkwy
URL:https://ausm.org/event/mnprov-mixer-90-minutes-of-improv-games-fun-and-new-friends-for-neurodivergent-adults-18-2/2024-04-24/
LOCATION:Highland Park Community Center\, 1978 Ford Pkwy\, St Paul\, MN\, 55116
CATEGORIES:Uniting the Community
END:VEVENT
BEGIN:VEVENT
DTSTART;TZID=America/Chicago:20240417T183000
DTEND;TZID=America/Chicago:20240417T200000
DTSTAMP:20260420T004116
CREATED:20240212T152602Z
LAST-MODIFIED:20240212T152602Z
UID:10001879-1713378600-1713384000@ausm.org
SUMMARY:MNprov Mixer – 90 minutes of improv games\, fun\, and new friends for neurodivergent adults 18+
DESCRIPTION:The MNprov MIXERS are a safe place for neurodivergent adults to have fun\, meet new people\, increase confidence and decrease stress. No experience is necessary. This event is free. \nImprov is inherently inclusive. All members are necessary for the success of the scene\, and everyone’s offers are incorporated into the scene. The improv rule of “Yes\, and…” allows participants to feel safe & supported and more willing to take risks. As players say “YES” to each other and add their ideas\, they will build trust and create something brand new together. \nThere will be a maximum number of 12 participants. We have a sensory items (created by AUSM) that are available at our workshops. Individuals\nare welcome to take breaks as needed. Lighting can be adjusted to meet needs. Participants are encouraged to let us know how we can best support them. \nA social narrative about the MNprov Mixers workshops and a registration link can be found on our website: https://mnprov.org/mnprov-mixers \ninfo@mnprov.org \n952.649.9699 \n\n\n\nHighland Park Community Center – Village View Room\, 1978 Ford Pkwy
URL:https://ausm.org/event/mnprov-mixer-90-minutes-of-improv-games-fun-and-new-friends-for-neurodivergent-adults-18-2/2024-04-17/
LOCATION:Highland Park Community Center\, 1978 Ford Pkwy\, St Paul\, MN\, 55116
CATEGORIES:Uniting the Community
END:VEVENT
BEGIN:VEVENT
DTSTART;TZID=America/Chicago:20240410T183000
DTEND;TZID=America/Chicago:20240410T200000
DTSTAMP:20260420T004116
CREATED:20240212T152602Z
LAST-MODIFIED:20240212T152602Z
UID:10001878-1712773800-1712779200@ausm.org
SUMMARY:MNprov Mixer – 90 minutes of improv games\, fun\, and new friends for neurodivergent adults 18+
DESCRIPTION:The MNprov MIXERS are a safe place for neurodivergent adults to have fun\, meet new people\, increase confidence and decrease stress. No experience is necessary. This event is free. \nImprov is inherently inclusive. All members are necessary for the success of the scene\, and everyone’s offers are incorporated into the scene. The improv rule of “Yes\, and…” allows participants to feel safe & supported and more willing to take risks. As players say “YES” to each other and add their ideas\, they will build trust and create something brand new together. \nThere will be a maximum number of 12 participants. We have a sensory items (created by AUSM) that are available at our workshops. Individuals\nare welcome to take breaks as needed. Lighting can be adjusted to meet needs. Participants are encouraged to let us know how we can best support them. \nA social narrative about the MNprov Mixers workshops and a registration link can be found on our website: https://mnprov.org/mnprov-mixers \ninfo@mnprov.org \n952.649.9699 \n\n\n\nHighland Park Community Center – Village View Room\, 1978 Ford Pkwy
URL:https://ausm.org/event/mnprov-mixer-90-minutes-of-improv-games-fun-and-new-friends-for-neurodivergent-adults-18-2/2024-04-10/
LOCATION:Highland Park Community Center\, 1978 Ford Pkwy\, St Paul\, MN\, 55116
CATEGORIES:Uniting the Community
END:VEVENT
BEGIN:VEVENT
DTSTART;TZID=America/Chicago:20240403T183000
DTEND;TZID=America/Chicago:20240403T200000
DTSTAMP:20260420T004116
CREATED:20240212T152602Z
LAST-MODIFIED:20240212T152602Z
UID:10001877-1712169000-1712174400@ausm.org
SUMMARY:MNprov Mixer – 90 minutes of improv games\, fun\, and new friends for neurodivergent adults 18+
DESCRIPTION:The MNprov MIXERS are a safe place for neurodivergent adults to have fun\, meet new people\, increase confidence and decrease stress. No experience is necessary. This event is free. \nImprov is inherently inclusive. All members are necessary for the success of the scene\, and everyone’s offers are incorporated into the scene. The improv rule of “Yes\, and…” allows participants to feel safe & supported and more willing to take risks. As players say “YES” to each other and add their ideas\, they will build trust and create something brand new together. \nThere will be a maximum number of 12 participants. We have a sensory items (created by AUSM) that are available at our workshops. Individuals\nare welcome to take breaks as needed. Lighting can be adjusted to meet needs. Participants are encouraged to let us know how we can best support them. \nA social narrative about the MNprov Mixers workshops and a registration link can be found on our website: https://mnprov.org/mnprov-mixers \ninfo@mnprov.org \n952.649.9699 \n\n\n\nHighland Park Community Center – Village View Room\, 1978 Ford Pkwy
URL:https://ausm.org/event/mnprov-mixer-90-minutes-of-improv-games-fun-and-new-friends-for-neurodivergent-adults-18-2/2024-04-03/
LOCATION:Highland Park Community Center\, 1978 Ford Pkwy\, St Paul\, MN\, 55116
CATEGORIES:Uniting the Community
END:VEVENT
BEGIN:VEVENT
DTSTART;TZID=America/Chicago:20240327T183000
DTEND;TZID=America/Chicago:20240327T200000
DTSTAMP:20260420T004116
CREATED:20240212T152602Z
LAST-MODIFIED:20240212T152602Z
UID:10001876-1711564200-1711569600@ausm.org
SUMMARY:MNprov Mixer – 90 minutes of improv games\, fun\, and new friends for neurodivergent adults 18+
DESCRIPTION:The MNprov MIXERS are a safe place for neurodivergent adults to have fun\, meet new people\, increase confidence and decrease stress. No experience is necessary. This event is free. \nImprov is inherently inclusive. All members are necessary for the success of the scene\, and everyone’s offers are incorporated into the scene. The improv rule of “Yes\, and…” allows participants to feel safe & supported and more willing to take risks. As players say “YES” to each other and add their ideas\, they will build trust and create something brand new together. \nThere will be a maximum number of 12 participants. We have a sensory items (created by AUSM) that are available at our workshops. Individuals\nare welcome to take breaks as needed. Lighting can be adjusted to meet needs. Participants are encouraged to let us know how we can best support them. \nA social narrative about the MNprov Mixers workshops and a registration link can be found on our website: https://mnprov.org/mnprov-mixers \ninfo@mnprov.org \n952.649.9699 \n\n\n\nHighland Park Community Center – Village View Room\, 1978 Ford Pkwy
URL:https://ausm.org/event/mnprov-mixer-90-minutes-of-improv-games-fun-and-new-friends-for-neurodivergent-adults-18-2/2024-03-27/
LOCATION:Highland Park Community Center\, 1978 Ford Pkwy\, St Paul\, MN\, 55116
CATEGORIES:Uniting the Community
END:VEVENT
BEGIN:VEVENT
DTSTART;TZID=America/Chicago:20240320T183000
DTEND;TZID=America/Chicago:20240320T200000
DTSTAMP:20260420T004116
CREATED:20240212T152602Z
LAST-MODIFIED:20240212T152602Z
UID:10001875-1710959400-1710964800@ausm.org
SUMMARY:MNprov Mixer – 90 minutes of improv games\, fun\, and new friends for neurodivergent adults 18+
DESCRIPTION:The MNprov MIXERS are a safe place for neurodivergent adults to have fun\, meet new people\, increase confidence and decrease stress. No experience is necessary. This event is free. \nImprov is inherently inclusive. All members are necessary for the success of the scene\, and everyone’s offers are incorporated into the scene. The improv rule of “Yes\, and…” allows participants to feel safe & supported and more willing to take risks. As players say “YES” to each other and add their ideas\, they will build trust and create something brand new together. \nThere will be a maximum number of 12 participants. We have a sensory items (created by AUSM) that are available at our workshops. Individuals\nare welcome to take breaks as needed. Lighting can be adjusted to meet needs. Participants are encouraged to let us know how we can best support them. \nA social narrative about the MNprov Mixers workshops and a registration link can be found on our website: https://mnprov.org/mnprov-mixers \ninfo@mnprov.org \n952.649.9699 \n\n\n\nHighland Park Community Center – Village View Room\, 1978 Ford Pkwy
URL:https://ausm.org/event/mnprov-mixer-90-minutes-of-improv-games-fun-and-new-friends-for-neurodivergent-adults-18-2/2024-03-20/
LOCATION:Highland Park Community Center\, 1978 Ford Pkwy\, St Paul\, MN\, 55116
CATEGORIES:Uniting the Community
END:VEVENT
BEGIN:VEVENT
DTSTART;TZID=America/Chicago:20240313T183000
DTEND;TZID=America/Chicago:20240313T200000
DTSTAMP:20260420T004116
CREATED:20240212T152602Z
LAST-MODIFIED:20240212T152602Z
UID:10001874-1710354600-1710360000@ausm.org
SUMMARY:MNprov Mixer – 90 minutes of improv games\, fun\, and new friends for neurodivergent adults 18+
DESCRIPTION:The MNprov MIXERS are a safe place for neurodivergent adults to have fun\, meet new people\, increase confidence and decrease stress. No experience is necessary. This event is free. \nImprov is inherently inclusive. All members are necessary for the success of the scene\, and everyone’s offers are incorporated into the scene. The improv rule of “Yes\, and…” allows participants to feel safe & supported and more willing to take risks. As players say “YES” to each other and add their ideas\, they will build trust and create something brand new together. \nThere will be a maximum number of 12 participants. We have a sensory items (created by AUSM) that are available at our workshops. Individuals\nare welcome to take breaks as needed. Lighting can be adjusted to meet needs. Participants are encouraged to let us know how we can best support them. \nA social narrative about the MNprov Mixers workshops and a registration link can be found on our website: https://mnprov.org/mnprov-mixers \ninfo@mnprov.org \n952.649.9699 \n\n\n\nHighland Park Community Center – Village View Room\, 1978 Ford Pkwy
URL:https://ausm.org/event/mnprov-mixer-90-minutes-of-improv-games-fun-and-new-friends-for-neurodivergent-adults-18-2/2024-03-13/
LOCATION:Highland Park Community Center\, 1978 Ford Pkwy\, St Paul\, MN\, 55116
CATEGORIES:Uniting the Community
END:VEVENT
BEGIN:VEVENT
DTSTART;TZID=America/Chicago:20240306T183000
DTEND;TZID=America/Chicago:20240306T200000
DTSTAMP:20260420T004116
CREATED:20240212T152602Z
LAST-MODIFIED:20240212T152602Z
UID:10001873-1709749800-1709755200@ausm.org
SUMMARY:MNprov Mixer – 90 minutes of improv games\, fun\, and new friends for neurodivergent adults 18+
DESCRIPTION:The MNprov MIXERS are a safe place for neurodivergent adults to have fun\, meet new people\, increase confidence and decrease stress. No experience is necessary. This event is free. \nImprov is inherently inclusive. All members are necessary for the success of the scene\, and everyone’s offers are incorporated into the scene. The improv rule of “Yes\, and…” allows participants to feel safe & supported and more willing to take risks. As players say “YES” to each other and add their ideas\, they will build trust and create something brand new together. \nThere will be a maximum number of 12 participants. We have a sensory items (created by AUSM) that are available at our workshops. Individuals\nare welcome to take breaks as needed. Lighting can be adjusted to meet needs. Participants are encouraged to let us know how we can best support them. \nA social narrative about the MNprov Mixers workshops and a registration link can be found on our website: https://mnprov.org/mnprov-mixers \ninfo@mnprov.org \n952.649.9699 \n\n\n\nHighland Park Community Center – Village View Room\, 1978 Ford Pkwy
URL:https://ausm.org/event/mnprov-mixer-90-minutes-of-improv-games-fun-and-new-friends-for-neurodivergent-adults-18-2/2024-03-06/
LOCATION:Highland Park Community Center\, 1978 Ford Pkwy\, St Paul\, MN\, 55116
CATEGORIES:Uniting the Community
END:VEVENT
BEGIN:VEVENT
DTSTART;TZID=America/Chicago:20240228T183000
DTEND;TZID=America/Chicago:20240228T200000
DTSTAMP:20260420T004116
CREATED:20240212T152602Z
LAST-MODIFIED:20240212T152602Z
UID:10001872-1709145000-1709150400@ausm.org
SUMMARY:MNprov Mixer – 90 minutes of improv games\, fun\, and new friends for neurodivergent adults 18+
DESCRIPTION:The MNprov MIXERS are a safe place for neurodivergent adults to have fun\, meet new people\, increase confidence and decrease stress. No experience is necessary. This event is free. \nImprov is inherently inclusive. All members are necessary for the success of the scene\, and everyone’s offers are incorporated into the scene. The improv rule of “Yes\, and…” allows participants to feel safe & supported and more willing to take risks. As players say “YES” to each other and add their ideas\, they will build trust and create something brand new together. \nThere will be a maximum number of 12 participants. We have a sensory items (created by AUSM) that are available at our workshops. Individuals\nare welcome to take breaks as needed. Lighting can be adjusted to meet needs. Participants are encouraged to let us know how we can best support them. \nA social narrative about the MNprov Mixers workshops and a registration link can be found on our website: https://mnprov.org/mnprov-mixers \ninfo@mnprov.org \n952.649.9699 \n\n\n\nHighland Park Community Center – Village View Room\, 1978 Ford Pkwy
URL:https://ausm.org/event/mnprov-mixer-90-minutes-of-improv-games-fun-and-new-friends-for-neurodivergent-adults-18-2/2024-02-28/
LOCATION:Highland Park Community Center\, 1978 Ford Pkwy\, St Paul\, MN\, 55116
CATEGORIES:Uniting the Community
END:VEVENT
BEGIN:VEVENT
DTSTART;TZID=America/Chicago:20240221T183000
DTEND;TZID=America/Chicago:20240221T200000
DTSTAMP:20260420T004116
CREATED:20240212T152602Z
LAST-MODIFIED:20240212T152602Z
UID:10001871-1708540200-1708545600@ausm.org
SUMMARY:MNprov Mixer – 90 minutes of improv games\, fun\, and new friends for neurodivergent adults 18+
DESCRIPTION:The MNprov MIXERS are a safe place for neurodivergent adults to have fun\, meet new people\, increase confidence and decrease stress. No experience is necessary. This event is free. \nImprov is inherently inclusive. All members are necessary for the success of the scene\, and everyone’s offers are incorporated into the scene. The improv rule of “Yes\, and…” allows participants to feel safe & supported and more willing to take risks. As players say “YES” to each other and add their ideas\, they will build trust and create something brand new together. \nThere will be a maximum number of 12 participants. We have a sensory items (created by AUSM) that are available at our workshops. Individuals\nare welcome to take breaks as needed. Lighting can be adjusted to meet needs. Participants are encouraged to let us know how we can best support them. \nA social narrative about the MNprov Mixers workshops and a registration link can be found on our website: https://mnprov.org/mnprov-mixers \ninfo@mnprov.org \n952.649.9699 \n\n\n\nHighland Park Community Center – Village View Room\, 1978 Ford Pkwy
URL:https://ausm.org/event/mnprov-mixer-90-minutes-of-improv-games-fun-and-new-friends-for-neurodivergent-adults-18-2/2024-02-21/
LOCATION:Highland Park Community Center\, 1978 Ford Pkwy\, St Paul\, MN\, 55116
CATEGORIES:Uniting the Community
END:VEVENT
END:VCALENDAR