BEGIN:VCALENDAR
VERSION:2.0
PRODID:-//AuSM - ECPv6.15.20//NONSGML v1.0//EN
CALSCALE:GREGORIAN
METHOD:PUBLISH
X-WR-CALNAME:AuSM
X-ORIGINAL-URL:https://ausm.org
X-WR-CALDESC:Events for AuSM
REFRESH-INTERVAL;VALUE=DURATION:PT1H
X-Robots-Tag:noindex
X-PUBLISHED-TTL:PT1H
BEGIN:VTIMEZONE
TZID:America/Chicago
BEGIN:DAYLIGHT
TZOFFSETFROM:-0600
TZOFFSETTO:-0500
TZNAME:CDT
DTSTART:20230312T080000
END:DAYLIGHT
BEGIN:STANDARD
TZOFFSETFROM:-0500
TZOFFSETTO:-0600
TZNAME:CST
DTSTART:20231105T070000
END:STANDARD
BEGIN:DAYLIGHT
TZOFFSETFROM:-0600
TZOFFSETTO:-0500
TZNAME:CDT
DTSTART:20240310T080000
END:DAYLIGHT
BEGIN:STANDARD
TZOFFSETFROM:-0500
TZOFFSETTO:-0600
TZNAME:CST
DTSTART:20241103T070000
END:STANDARD
BEGIN:DAYLIGHT
TZOFFSETFROM:-0600
TZOFFSETTO:-0500
TZNAME:CDT
DTSTART:20250309T080000
END:DAYLIGHT
BEGIN:STANDARD
TZOFFSETFROM:-0500
TZOFFSETTO:-0600
TZNAME:CST
DTSTART:20251102T070000
END:STANDARD
END:VTIMEZONE
BEGIN:VEVENT
DTSTART;TZID=America/Chicago:20240316T193000
DTEND;TZID=America/Chicago:20240316T210000
DTSTAMP:20260419T141052
CREATED:20240130T221907Z
LAST-MODIFIED:20240130T221907Z
UID:10001867-1710617400-1710622800@ausm.org
SUMMARY:The Most Spectacularly Lamentable Trial of Miz Martha Washington at Mixed Blood Theatre
DESCRIPTION:ll tickets are no cost. Donations welcome. To reserve your ticket and make any access requests email boxoffice@mixedblood.com or call 612-451-4466 and leave a message. Box office: 612-338-6131. English-language captioning — provided at every performance. Assisted Listening — available at every performance (please reserve in advance). Sensory Friendly/Relaxed — March 16. \nWritten by James Ijames\, Directed by Pirronne Yousefzadeh \nRavaged by illness and cared for by the very slaves that will be free the moment she dies\, Martha Washington’s fever dreams are haunted by a range of characters\, from Queen Charlotte and George Washington\, to a present-day trial lawyer\, building up to reconnecting with family\, legacy and broken promises. Written by Pulitzer winner James Ijames\, this biting satire examines history’s impact on present-day systems. \nThe performance runs about 90 minutes\, without an intermission.
URL:https://ausm.org/event/the-most-spectacularly-lamentable-trial-of-miz-martha-washington-at-mixed-blood-theatre/
LOCATION:Mixed Blood Theatre\, 1501 S. Fourth St.\, MPLS\, MN\, 55454
CATEGORIES:Sensory Friendly
END:VEVENT
END:VCALENDAR