BEGIN:VCALENDAR
VERSION:2.0
PRODID:-//AuSM - ECPv6.15.20//NONSGML v1.0//EN
CALSCALE:GREGORIAN
METHOD:PUBLISH
X-WR-CALNAME:AuSM
X-ORIGINAL-URL:https://ausm.org
X-WR-CALDESC:Events for AuSM
REFRESH-INTERVAL;VALUE=DURATION:PT1H
X-Robots-Tag:noindex
X-PUBLISHED-TTL:PT1H
BEGIN:VTIMEZONE
TZID:America/Chicago
BEGIN:DAYLIGHT
TZOFFSETFROM:-0600
TZOFFSETTO:-0500
TZNAME:CDT
DTSTART:20230312T080000
END:DAYLIGHT
BEGIN:STANDARD
TZOFFSETFROM:-0500
TZOFFSETTO:-0600
TZNAME:CST
DTSTART:20231105T070000
END:STANDARD
BEGIN:DAYLIGHT
TZOFFSETFROM:-0600
TZOFFSETTO:-0500
TZNAME:CDT
DTSTART:20240310T080000
END:DAYLIGHT
BEGIN:STANDARD
TZOFFSETFROM:-0500
TZOFFSETTO:-0600
TZNAME:CST
DTSTART:20241103T070000
END:STANDARD
BEGIN:DAYLIGHT
TZOFFSETFROM:-0600
TZOFFSETTO:-0500
TZNAME:CDT
DTSTART:20250309T080000
END:DAYLIGHT
BEGIN:STANDARD
TZOFFSETFROM:-0500
TZOFFSETTO:-0600
TZNAME:CST
DTSTART:20251102T070000
END:STANDARD
END:VTIMEZONE
BEGIN:VEVENT
DTSTART;TZID=America/Chicago:20240420T140000
DTEND;TZID=America/Chicago:20240420T160000
DTSTAMP:20260420T150335
CREATED:20240326T191646Z
LAST-MODIFIED:20240326T191646Z
UID:10001896-1713621600-1713628800@ausm.org
SUMMARY:The Lion King
DESCRIPTION:Hennepin Theatre Trust is proud to offer a sensory-friendly performance of Disney’s The Lion King. This performance is specifically designed for individuals with sensory differences\, cognitive or developmental disabilities\, and those who benefit from a relaxed theater environment along with their families and caregivers. With the partnership of Fraser\, the show will be performed in a supportive and judgment-free environment. \nAccommodations at this performance include: \n\nLower sound levels\, especially for startling or intense sounds.\nTheatre lights on at a low level throughout the performance.\nStanding and movement accommodated in spaces throughout the theatre.\nDesignated sensory break areas throughout the theatre.\nTrained volunteers and professionals on hand during the entire performance.\nSensory supports (fidgets\, earplugs\, noise-canceling ear-muffs) available in the lobby before the show.\nOnline and printed guidance materials about the show experience.\nAudience members are welcome to bring their own handheld sensory tools (e.g.\, fidgets)\, seat cushions\, comfort objects and extra support items to the show.
URL:https://ausm.org/event/the-lion-king/
LOCATION:Orpheum Theatre
CATEGORIES:Sensory Friendly
END:VEVENT
END:VCALENDAR